BEGIN:VCALENDAR
VERSION:2.0
PRODID:-//Like2Laugh Productions - ECPv6.3.3.1//NONSGML v1.0//EN
CALSCALE:GREGORIAN
METHOD:PUBLISH
X-WR-CALNAME:Like2Laugh Productions
X-ORIGINAL-URL:https://like2laugh.com
X-WR-CALDESC:Events for Like2Laugh Productions
REFRESH-INTERVAL;VALUE=DURATION:PT1H
X-Robots-Tag:noindex
X-PUBLISHED-TTL:PT1H
BEGIN:VTIMEZONE
TZID:UTC
BEGIN:STANDARD
TZOFFSETFROM:+0000
TZOFFSETTO:+0000
TZNAME:UTC
DTSTART:20240101T000000
END:STANDARD
END:VTIMEZONE
BEGIN:VEVENT
DTSTART;TZID=UTC:20240920T190000
DTEND;TZID=UTC:20240920T223000
DTSTAMP:20260422T004136
CREATED:20231223T002610Z
LAST-MODIFIED:20240822T191933Z
UID:3387-1726858800-1726871400@like2laugh.com
SUMMARY:Dorchester Brewing COMEDY Friday
DESCRIPTION:Event description\n\n\n\nThere’s funny brewing Friday nights (3rd Fridays) at Dorchester Brewing Company. \n$20 Tickets.  Seating at 7pm and show 7:30pm.\n21+ w/ valid ID\nBeverage options include beer\, wine\, hard seltzer\, hard cider\, seltzer-based slushies\, wine & various NA beverages\nFood is available for purchase on-site from M&M BBQ\nNo outside beverages or food are permitted \nTHANK YOU and looking forward to some hilarious evenings! \nLocation\nDorchester Brewing Company 1250 Massachusetts Ave\, Dorchester\, MA 02125\, USA\nGet directions \n \nRefund policy\nIf the show is cancelled for any unforeseen circumstances\, tickets will be refunded in full. \n\n\nGet Ticket
URL:https://like2laugh.com/event/dorchester-brewing-comedy-friday/
CATEGORIES:Event
ATTACH;FMTTYPE=image/jpeg:https://like2laugh.com/wp-content/uploads/2023/12/Our-Services-scaled.jpeg
END:VEVENT
BEGIN:VEVENT
DTSTART;TZID=UTC:20240318T190000
DTEND;TZID=UTC:20240318T220000
DTSTAMP:20260422T004136
CREATED:20240312T212407Z
LAST-MODIFIED:20240326T164416Z
UID:3893-1710788400-1710799200@like2laugh.com
SUMMARY:The Original Like2Laugh 18th Annual
DESCRIPTION:WEEK 2: WATCH and VOTE 2NiGHT Sunday 7pm PT / 10pm ET\nUPDATED NEW Zoom Link KO Comedy https://us02web.zoom.us/j/89783189895?pwd=azhGdjNLUWNRZWxXZm5LbytZWkFzdz09 \nTwitch Comedy Hub https://www.twitch.tv/comedyhub \nIf you are able – please donate and share \nCollecting via \nVenmo: www.venmo.com/LIKE2LAUGH @LIKE2LAUGH \nPayPal: www.paypal.me/like2laugh \nCash App: www.cash.app/$LIKE2LAUGH \nBBRF’s DonorDrive Site: https://bbrfoundation.donordrive.com/campaign/March-Comedy-Madness-2024 \nOr Check by Mail: \nBrain & Behavior Research Foundation \n747 Third Avenue\, 33rd Floor\, New York\, NY 10017 \nATTN: Special Events MARCH COMEDY MADNESS \nIt’s Absolute Comedy Madness this March! \nWorldwide: Last Sunday\, Aaron Kominos-Smith took the top spot battling his way to the Final Four. This week\, it’s anyone’s game with a fresh 16 down to 1 evening lined-up. Donations are starting to come in for BBRF.org as well. Thank you\, thank you! And the madness continues. \nLike2Laugh’s 18th Annual March Comedy Madness where 64+ stand-up comedians go one-on-one to raise money for the Brain & Behavior Research Foundation for mental health research battling in tournament brackets. \nPast winners include Julian McCullough\, Reese Waters\, Myq Kaplan\, Sam Morril\, Samba Schutte\, Adam Yenser\, Nick Cobb\, Jay Hollingsworth\, Greg Wilson & Harrison Greenbaum & Chris Hurst (2015 Regional Champs)\, Shannon Leigh & Mike Kramer (2016 Co-Champions)\, Lance Weiss\, Kyle McNally\, Sean Duffy\, Mateen Stewart\, Gianmarco Soresi\, Stephanie Holmes\, and Margo Hera! \nWHAT\, WHERE\, & WHEN: The month-long fundraiser/talent search/bracketed competition takes to livestream Sundays in March on KO Comedy Club via Zoom and Comedy Hub on Twitch. \nWHO: 64+ competing comedians\, special guest comedians and referees\, and an awesome audience! \nWHY: The Brain & Behavior Research Foundation is the world’s leading donor-supported organization dedicated to finding the causes\, improved treatments and cures for mental illnesses. The Foundation funds research across a broad range of mental illnesses including addiction\, ADHD\, anxiety\, autism\, bipolar disorder\, borderline personality disorder\, depression\, eating disorders\, OCD\, PTSD and schizophrenia. 100% of donor contributions for research are invested in research grants. Please visit their website www.bbrfoundation.org to learn more about the Foundation and its scientist grantees. \nComedians bring their best sets in these hilarious online shows and support our amazing cause that affects us all. You will want to catch March Comedy Madness! Head-to-head match-ups begin at one to two minutes a piece and increase in length as comedians advance until one champion remains. \n“It’s anybody’s game\,” said event founder and organizer Josh Filipowski. “Pros and amateurs alike may have a solid start in the first rounds\, but it’s the more seasoned comedians who shine in later rounds. We always crown a worthy champ.” \n“Top comedians face off.” – NBC’s Today in LA \n“Comedians walked on stage and delivered their best.” – The New York Times \n“Brings respectability back to comedy competitions.” – STAGE TIME Magazine \nTo Benefit: bbrfoundation.org \nProduced by: like2laugh.com \nOn KO Comedy Club: kocomedy.com/ \nand Comedy Hub: twitch.tv/comedyhub \nFB Page: facebook.com/marchcomedymadness \nEarn a spot in the bracket or Zoom in to jump in the game if any openings- MADNESS IS FOR EVERYBODY! And as always\, random(dot)org will select order of line-ups. Questions\, comments\, concerns? CONTACT Josh Filipowski 914-629-1225 josh@like2laugh.com \nIT’S MADNESS! \nA Like 2 Laugh production\, hilarity since 2003. \nhttps://www.instagram.com/like2laugh4real \nhttps://www.facebook.com/Like2Laugh/ \nhttp://www.like2laugh.com/ \nLaughter and Love\, \njOSH @FunnyFlips FILIPOWSKi \n914-629-1225 \nLike2Laugh Productions \nLIKE2LAUGH.com
URL:https://like2laugh.com/event/the-original-like2laugh-18th-annual/
ATTACH;FMTTYPE=image/jpeg:https://like2laugh.com/wp-content/uploads/2024/03/Comedy_Madness-1.jpg
END:VEVENT
BEGIN:VEVENT
DTSTART;TZID=UTC:20240312T070000
DTEND;TZID=UTC:20240314T000000
DTSTAMP:20260422T004136
CREATED:20240312T212151Z
LAST-MODIFIED:20240408T182844Z
UID:3882-1710226800-1710374400@like2laugh.com
SUMMARY:Comedy Night At The Point
DESCRIPTION:A brand new Thursday night show from the local event powerhouse Comedy Party! Located in the historic Faneuil Hall area of Bosto \n\n\n\n\nAbout this event\n\n\n\n\n\n\nLocated at everyone’s favorite Bar in Faneuil Hall\, this brand new show from Comedy Party is ready to shake up the neighborhood. Join us on Thursday nights at 730 pm to turn up the volume on comedy and experience a hilarious night out! Come for the comedy\, stay for the Party. This hilarious show will have you laughing hard and feeling good all night long! \nGet your tickets for the best live comedy in the North End before they’re sold out! \nDetails: \nDate: Every Thursday (except 3rd Thursday) \nAddress: The Point\, 147 Hanover St\, Boston\, MA 02108 \nDoors: 7:00PM\, Show: 7:30PM \nTickets: $10 \n\n\n\n\n\n\n\n\n\n\n\nGet directions \n \n\nRefund Policy\n\nContact the organizer to request a refund.\nEventbrite’s fee is nonrefundable.\n\nGet Ticket
URL:https://like2laugh.com/event/comedy-night-at-the-point/
ATTACH;FMTTYPE=image/jpeg:https://like2laugh.com/wp-content/uploads/2024/03/Comedy_Night_At_The_Point-1.jpg
END:VEVENT
END:VCALENDAR