BEGIN:VCALENDAR
VERSION:2.0
PRODID:-//Like2Laugh Productions - ECPv6.3.3.1//NONSGML v1.0//EN
CALSCALE:GREGORIAN
METHOD:PUBLISH
X-ORIGINAL-URL:https://like2laugh.com
X-WR-CALDESC:Events for Like2Laugh Productions
REFRESH-INTERVAL;VALUE=DURATION:PT1H
X-Robots-Tag:noindex
X-PUBLISHED-TTL:PT1H
BEGIN:VTIMEZONE
TZID:UTC
BEGIN:STANDARD
TZOFFSETFROM:+0000
TZOFFSETTO:+0000
TZNAME:UTC
DTSTART:20240101T000000
END:STANDARD
END:VTIMEZONE
BEGIN:VEVENT
DTSTART;TZID=UTC:20240920T190000
DTEND;TZID=UTC:20240920T223000
DTSTAMP:20260422T220744
CREATED:20231223T002610Z
LAST-MODIFIED:20240822T191933Z
UID:3387-1726858800-1726871400@like2laugh.com
SUMMARY:Dorchester Brewing COMEDY Friday
DESCRIPTION:Event description\n\n\n\nThere’s funny brewing Friday nights (3rd Fridays) at Dorchester Brewing Company. \n$20 Tickets.  Seating at 7pm and show 7:30pm.\n21+ w/ valid ID\nBeverage options include beer\, wine\, hard seltzer\, hard cider\, seltzer-based slushies\, wine & various NA beverages\nFood is available for purchase on-site from M&M BBQ\nNo outside beverages or food are permitted \nTHANK YOU and looking forward to some hilarious evenings! \nLocation\nDorchester Brewing Company 1250 Massachusetts Ave\, Dorchester\, MA 02125\, USA\nGet directions \n \nRefund policy\nIf the show is cancelled for any unforeseen circumstances\, tickets will be refunded in full. \n\n\nGet Ticket
URL:https://like2laugh.com/event/dorchester-brewing-comedy-friday/
CATEGORIES:Event
ATTACH;FMTTYPE=image/jpeg:https://like2laugh.com/wp-content/uploads/2023/12/Our-Services-scaled.jpeg
END:VEVENT
END:VCALENDAR